BEGIN:VCALENDAR
VERSION:2.0
PRODID:-//Groupe Export Agroalimentaire - ECPv6.15.17//NONSGML v1.0//EN
CALSCALE:GREGORIAN
METHOD:PUBLISH
X-WR-CALNAME:Groupe Export Agroalimentaire
X-ORIGINAL-URL:https://groupexport.ca/en/
X-WR-CALDESC:Events for Groupe Export Agroalimentaire
REFRESH-INTERVAL;VALUE=DURATION:PT1H
X-Robots-Tag:noindex
X-PUBLISHED-TTL:PT1H
BEGIN:VTIMEZONE
TZID:America/Toronto
BEGIN:DAYLIGHT
TZOFFSETFROM:-0500
TZOFFSETTO:-0400
TZNAME:EDT
DTSTART:20250309T070000
END:DAYLIGHT
BEGIN:STANDARD
TZOFFSETFROM:-0400
TZOFFSETTO:-0500
TZNAME:EST
DTSTART:20251102T060000
END:STANDARD
BEGIN:DAYLIGHT
TZOFFSETFROM:-0500
TZOFFSETTO:-0400
TZNAME:EDT
DTSTART:20260308T070000
END:DAYLIGHT
BEGIN:STANDARD
TZOFFSETFROM:-0400
TZOFFSETTO:-0500
TZNAME:EST
DTSTART:20261101T060000
END:STANDARD
BEGIN:DAYLIGHT
TZOFFSETFROM:-0500
TZOFFSETTO:-0400
TZNAME:EDT
DTSTART:20270314T070000
END:DAYLIGHT
BEGIN:STANDARD
TZOFFSETFROM:-0400
TZOFFSETTO:-0500
TZNAME:EST
DTSTART:20271107T060000
END:STANDARD
END:VTIMEZONE
BEGIN:VEVENT
DTSTART;VALUE=DATE:20260304
DTEND;VALUE=DATE:20260307
DTSTAMP:20260420T105711
CREATED:20251018T175331Z
LAST-MODIFIED:20251018T175331Z
UID:37232-1772582400-1772841599@groupexport.ca
SUMMARY:Natural Products Expo West (NPEW) 2026
DESCRIPTION:
URL:https://groupexport.ca/en/activities/natural-products-expo-west-npew-2026/
LOCATION:Anaheim Convention Center\, 800 W Katella Ave\, Anaheim\, CA 92802\, United States\, Anaheim\, California\, 92802\, United States
CATEGORIES:Fairs and commercial activities
ATTACH;FMTTYPE=image/png:https://groupexport.ca/wp-content/uploads/2023/09/NPEW-logo-e1695742982900.png
ORGANIZER;CN="Judith Ambriz":MAILTO:JudithAmbriz@GroupExport.ca
END:VEVENT
BEGIN:VEVENT
DTSTART;VALUE=DATE:20260308
DTEND;VALUE=DATE:20260311
DTSTAMP:20260420T105711
CREATED:20260206T161112Z
LAST-MODIFIED:20260206T161430Z
UID:37654-1772928000-1773187199@groupexport.ca
SUMMARY:Restaurant Canada Show 2026
DESCRIPTION:
URL:https://groupexport.ca/en/activities/restaurant-canada-show-2026/
LOCATION:The International Centre\, 6900 Airport Rd\, Mississauga\, Ontario\, L4V 1E8\, Canada
CATEGORIES:Fairs and commercial activities
ATTACH;FMTTYPE=image/png:https://groupexport.ca/wp-content/uploads/2026/02/RC-Show-1.png
ORGANIZER;CN="Tanja Popovic":MAILTO:TanjaPopovic@GroupExport.ca
END:VEVENT
BEGIN:VEVENT
DTSTART;VALUE=DATE:20260310
DTEND;VALUE=DATE:20260314
DTSTAMP:20260420T105711
CREATED:20260206T161931Z
LAST-MODIFIED:20260220T000528Z
UID:37664-1773100800-1773446399@groupexport.ca
SUMMARY:FoodEx Japan 2026 | Trade Mission
DESCRIPTION:
URL:https://groupexport.ca/en/activities/foodex-japan-2026-trade-mission/
LOCATION:Tokyo Big Sight\, 3 Chome-11-1 Ariake\, Koto City\, Tokyo 135-0063\, Japon\, Tokyo\, Japon
CATEGORIES:Fairs and commercial activities
ATTACH;FMTTYPE=image/png:https://groupexport.ca/wp-content/uploads/2026/02/Foodex-Japan.png
ORGANIZER;CN="Vivianne Cameron":MAILTO:viviannecameron@groupexport.ca
END:VEVENT
BEGIN:VEVENT
DTSTART;VALUE=DATE:20260315
DTEND;VALUE=DATE:20260318
DTSTAMP:20260420T105711
CREATED:20260206T162711Z
LAST-MODIFIED:20260305T190119Z
UID:37677-1773532800-1773791999@groupexport.ca
SUMMARY:Seafood Expo North America 2026
DESCRIPTION:
URL:https://groupexport.ca/en/activities/seafood-expo-north-america-2026/
LOCATION:Boston Convention and Exhibition Center\, 415 Summer Street\, Boston\, MA\, 02210\, United States
CATEGORIES:Fairs and commercial activities
ATTACH;FMTTYPE=image/png:https://groupexport.ca/wp-content/uploads/2026/02/seafoodexpo_NA.png
ORGANIZER;CN="Fr%C3%A9d%C3%A9ric Moutama":MAILTO:FredericMoutama@GroupExport.ca
END:VEVENT
BEGIN:VEVENT
DTSTART;TZID=America/Toronto:20260318T100000
DTEND;TZID=America/Toronto:20260318T110000
DTSTAMP:20260420T105711
CREATED:20260209T135536Z
LAST-MODIFIED:20260209T135716Z
UID:37839-1773828000-1773831600@groupexport.ca
SUMMARY:Labeling | United States Module 1 - Introduction to FDA Regulations
DESCRIPTION:
URL:https://groupexport.ca/en/activities/labeling-united-states-module-1-introduction-to-fda-regulations/
LOCATION:Online
CATEGORIES:Training and networking
ATTACH;FMTTYPE=image/jpeg:https://groupexport.ca/wp-content/uploads/2026/02/AdobeStock_429294961.jpeg
ORGANIZER;CN="Samira Silbermann":MAILTO:samirasilbermann@groupexport.ca
END:VEVENT
BEGIN:VEVENT
DTSTART;TZID=America/Toronto:20260318T100000
DTEND;TZID=America/Toronto:20260401T110000
DTSTAMP:20260420T105711
CREATED:20260209T134335Z
LAST-MODIFIED:20260209T134458Z
UID:37825-1773828000-1775041200@groupexport.ca
SUMMARY:Labeling under U.S. FDA Regulations Package | Modules 1 to 3
DESCRIPTION:
URL:https://groupexport.ca/en/activities/labeling-under-u-s-fda-regulations-package-modules-1-to-3/
LOCATION:Online
CATEGORIES:Training and networking
ATTACH;FMTTYPE=image/jpeg:https://groupexport.ca/wp-content/uploads/2026/02/AdobeStock_1775356576.jpeg
ORGANIZER;CN="Samira Silbermann":MAILTO:samirasilbermann@groupexport.ca
END:VEVENT
BEGIN:VEVENT
DTSTART;TZID=America/Toronto:20260325T100000
DTEND;TZID=America/Toronto:20260325T120000
DTSTAMP:20260420T105711
CREATED:20260209T134829Z
LAST-MODIFIED:20260209T134950Z
UID:37832-1774432800-1774440000@groupexport.ca
SUMMARY:Étiquetage | États-Unis Module 2 - Nom de produit et liste des ingrédients FDA
DESCRIPTION:
URL:https://groupexport.ca/en/activities/etiquetage-etats-unis-module-2-nom-de-produit-et-liste-des-ingredients-fda-2/
LOCATION:Online
CATEGORIES:Training and networking
ATTACH;FMTTYPE=image/jpeg:https://groupexport.ca/wp-content/uploads/2026/02/AdobeStock_685746826.jpeg
ORGANIZER;CN="Samira Silbermann":MAILTO:samirasilbermann@groupexport.ca
END:VEVENT
BEGIN:VEVENT
DTSTART;VALUE=DATE:20260330
DTEND;VALUE=DATE:20260402
DTSTAMP:20260420T105711
CREATED:20260206T163438Z
LAST-MODIFIED:20260206T163631Z
UID:37691-1774828800-1775087999@groupexport.ca
SUMMARY:International Food & Drink Event (IFE) 2026
DESCRIPTION:
URL:https://groupexport.ca/en/activities/international-food-drink-event-ife-2026/
LOCATION:Excel London\, Royal Victoria Dock\, 1 Western Gateway\, Londres\, E16 1XL\, United Kingdom
CATEGORIES:Fairs and commercial activities
ATTACH;FMTTYPE=image/png:https://groupexport.ca/wp-content/uploads/2026/02/ife-logo.png
ORGANIZER;CN="Xinyi Tan":MAILTO:xinyiTan@GroupExport.ca
END:VEVENT
END:VCALENDAR